BEGIN:VCALENDAR
VERSION:2.0
PRODID:-//hacksw/handcal//NONSGML v1.0//EN
CALSCALE:GREGORIAN
BEGIN:VEVENT
DTEND:20260421T190000Z
UID:69e778e1c406f
DTSTAMP:19700101T000000Z
LOCATION:
DESCRIPTION:Lust auf einen entspannten Abend mit guten Filmen, Popcorn und interessanten Gesprächen? Dann kommt vorbei zu der neuen Filmreihe KATHO MOVIE in der Cafeteria an der katho in Köln!
URL;VALUE=URI:https://koelner-wissenschaftsrunde.de/kwr_termine/katho-movie-neue-filmreihe-in-koeln/
SUMMARY:KATHO MOVIE – Neue Filmreihe in Köln!
DTSTART:20260421T154500Z
END:VEVENT
END:VCALENDAR