BEGIN:VCALENDAR
VERSION:2.0
PRODID:-//hacksw/handcal//NONSGML v1.0//EN
CALSCALE:GREGORIAN
BEGIN:VEVENT
DTEND:20260630T151500Z
UID:69e8b2c849604
DTSTAMP:19700101T000000Z
LOCATION:
DESCRIPTION:Ihr werdet zu echten Zahndetektivinnen und -detektiven und ermittelt an mehreren Stationen in unserem CBS Phantomkopfsaal. Mit Experimenten, Spielen und kniffligen Aufgaben kommt ihr dem Fall Schritt für Schritt näher.
URL;VALUE=URI:https://koelner-wissenschaftsrunde.de/kwr_termine/ahndetektivinnen-und-detektive-auf-spurensuche-was-hilft-was-schadet/
SUMMARY:Zahndetektivinnen und -detektive auf Spurensuche: Tatort Mundhöhle
DTSTART:20260630T143000Z
END:VEVENT
END:VCALENDAR