BEGIN:VCALENDAR
VERSION:2.0
PRODID:-//hacksw/handcal//NONSGML v1.0//EN
CALSCALE:GREGORIAN
BEGIN:VEVENT
DTEND:20260717T163000Z
UID:69e8c84d2d510
DTSTAMP:19700101T000000Z
LOCATION:
DESCRIPTION:Am 7. Mai 2026 startet die MS Wissenschaft ihre diesjährige Tour. Von Berlin aus fährt das Ausstellungsschiff nach Polen und danach durch Deutschland und Österreich. Insgesamt steuert es rund 35 kleine und große Städte an - vom 14. - 17- Juli legt die MS Wissenschaft in Köln an. An Bord dreht sich alles um das Thema Medizin der Zukunft. Der Eintritt ist frei.
URL;VALUE=URI:https://koelner-wissenschaftsrunde.de/kwr_termine/medizin-zum-mitforschen-ms-wissenschaft-legt-in-koeln-an/
SUMMARY:Medizin zum Mitforschen: MS Wissenschaft legt in Köln an
DTSTART:20260714T080000Z
END:VEVENT
END:VCALENDAR